BEGIN:VCALENDAR
VERSION:2.0
PRODID:-//Konstantin Lifschitz — Pianist and Conductor - ECPv6.15.20//NONSGML v1.0//EN
CALSCALE:GREGORIAN
METHOD:PUBLISH
X-WR-CALNAME:Konstantin Lifschitz — Pianist and Conductor
X-ORIGINAL-URL:https://konstantinlifschitz.com
X-WR-CALDESC:Events for Konstantin Lifschitz — Pianist and Conductor
REFRESH-INTERVAL;VALUE=DURATION:PT1H
X-Robots-Tag:noindex
X-PUBLISHED-TTL:PT1H
BEGIN:VTIMEZONE
TZID:Europe/Zurich
BEGIN:DAYLIGHT
TZOFFSETFROM:+0100
TZOFFSETTO:+0200
TZNAME:CEST
DTSTART:20240331T010000
END:DAYLIGHT
BEGIN:STANDARD
TZOFFSETFROM:+0200
TZOFFSETTO:+0100
TZNAME:CET
DTSTART:20241027T010000
END:STANDARD
BEGIN:DAYLIGHT
TZOFFSETFROM:+0100
TZOFFSETTO:+0200
TZNAME:CEST
DTSTART:20250330T010000
END:DAYLIGHT
BEGIN:STANDARD
TZOFFSETFROM:+0200
TZOFFSETTO:+0100
TZNAME:CET
DTSTART:20251026T010000
END:STANDARD
BEGIN:DAYLIGHT
TZOFFSETFROM:+0100
TZOFFSETTO:+0200
TZNAME:CEST
DTSTART:20260329T010000
END:DAYLIGHT
BEGIN:STANDARD
TZOFFSETFROM:+0200
TZOFFSETTO:+0100
TZNAME:CET
DTSTART:20261025T010000
END:STANDARD
END:VTIMEZONE
BEGIN:VEVENT
DTSTART;TZID=Europe/Zurich:20250610T000000
DTEND;TZID=Europe/Zurich:20250615T235959
DTSTAMP:20260420T024637
CREATED:20250206T120914Z
LAST-MODIFIED:20250206T120914Z
UID:364-1749513600-1750031999@konstantinlifschitz.com
SUMMARY:Kutná Hora Music Festival
DESCRIPTION:
URL:https://konstantinlifschitz.com/concert/kutna-hora-music-festival/
LOCATION:Kutná Hora\, Kutná Hora\, Kutná Hora Music Festival\, Czech Republic
END:VEVENT
END:VCALENDAR