BEGIN:VCALENDAR
VERSION:2.0
PRODID:-//Konstantin Lifschitz — Pianist and Conductor - ECPv6.15.20//NONSGML v1.0//EN
CALSCALE:GREGORIAN
METHOD:PUBLISH
X-WR-CALNAME:Konstantin Lifschitz — Pianist and Conductor
X-ORIGINAL-URL:https://konstantinlifschitz.com
X-WR-CALDESC:Events for Konstantin Lifschitz — Pianist and Conductor
REFRESH-INTERVAL;VALUE=DURATION:PT1H
X-Robots-Tag:noindex
X-PUBLISHED-TTL:PT1H
BEGIN:VTIMEZONE
TZID:Europe/Zurich
BEGIN:DAYLIGHT
TZOFFSETFROM:+0100
TZOFFSETTO:+0200
TZNAME:CEST
DTSTART:20240331T010000
END:DAYLIGHT
BEGIN:STANDARD
TZOFFSETFROM:+0200
TZOFFSETTO:+0100
TZNAME:CET
DTSTART:20241027T010000
END:STANDARD
BEGIN:DAYLIGHT
TZOFFSETFROM:+0100
TZOFFSETTO:+0200
TZNAME:CEST
DTSTART:20250330T010000
END:DAYLIGHT
BEGIN:STANDARD
TZOFFSETFROM:+0200
TZOFFSETTO:+0100
TZNAME:CET
DTSTART:20251026T010000
END:STANDARD
BEGIN:DAYLIGHT
TZOFFSETFROM:+0100
TZOFFSETTO:+0200
TZNAME:CEST
DTSTART:20260329T010000
END:DAYLIGHT
BEGIN:STANDARD
TZOFFSETFROM:+0200
TZOFFSETTO:+0100
TZNAME:CET
DTSTART:20261025T010000
END:STANDARD
END:VTIMEZONE
BEGIN:VTIMEZONE
TZID:Asia/Jerusalem
BEGIN:DAYLIGHT
TZOFFSETFROM:+0200
TZOFFSETTO:+0300
TZNAME:IDT
DTSTART:20240329T000000
END:DAYLIGHT
BEGIN:STANDARD
TZOFFSETFROM:+0300
TZOFFSETTO:+0200
TZNAME:IST
DTSTART:20241026T230000
END:STANDARD
BEGIN:DAYLIGHT
TZOFFSETFROM:+0200
TZOFFSETTO:+0300
TZNAME:IDT
DTSTART:20250328T000000
END:DAYLIGHT
BEGIN:STANDARD
TZOFFSETFROM:+0300
TZOFFSETTO:+0200
TZNAME:IST
DTSTART:20251025T230000
END:STANDARD
BEGIN:DAYLIGHT
TZOFFSETFROM:+0200
TZOFFSETTO:+0300
TZNAME:IDT
DTSTART:20260327T000000
END:DAYLIGHT
BEGIN:STANDARD
TZOFFSETFROM:+0300
TZOFFSETTO:+0200
TZNAME:IST
DTSTART:20261024T230000
END:STANDARD
END:VTIMEZONE
BEGIN:VEVENT
DTSTART;TZID=Europe/Zurich:20250408T190000
DTEND;TZID=Europe/Zurich:20250408T210000
DTSTAMP:20260420T011906
CREATED:20250206T120536Z
LAST-MODIFIED:20250206T123732Z
UID:361-1744138800-1744146000@konstantinlifschitz.com
SUMMARY:Bach-Programme Presentation of Konstantin Lifschitz Book
DESCRIPTION:“Book of Hours\, Days and Seasons with J.S. Bach” with Moderation and Various Parts from the Recording
URL:https://konstantinlifschitz.com/concert/bach-programme-presentation-of-konstantin-lifschitz-book-2/
LOCATION:Wien Bösendorfer Salon\, Haus der Ingenieure\, Eschenbachgasse 9\, Wien\, 1010\, Austria
END:VEVENT
BEGIN:VEVENT
DTSTART;TZID=Europe/Zurich:20250316T170000
DTEND;TZID=Europe/Zurich:20250316T190000
DTSTAMP:20260420T011906
CREATED:20250206T120112Z
LAST-MODIFIED:20250206T123737Z
UID:355-1742144400-1742151600@konstantinlifschitz.com
SUMMARY:Bach-Programme Presentation of Konstantin Lifschitz Book
DESCRIPTION:“Book of Hours\, Days and Seasons with J.S. Bach” with Moderation and Various Parts from the Recording
URL:https://konstantinlifschitz.com/concert/bach-programme-presentation-of-konstantin-lifschitz-book/
LOCATION:Klavierfest Berlin Weißensee\, Berliner Allee 125\, Berlin\, 13088\, Germany
END:VEVENT
BEGIN:VEVENT
DTSTART;TZID=Europe/Zurich:20250312T000000
DTEND;TZID=Europe/Zurich:20250321T235959
DTSTAMP:20260420T011906
CREATED:20250206T115824Z
LAST-MODIFIED:20250206T115852Z
UID:352-1741737600-1742601599@konstantinlifschitz.com
SUMMARY:Bach Competition Leipzig Jury and Inauguration Concert (13.03)
DESCRIPTION:
URL:https://konstantinlifschitz.com/concert/bach-competition-leipzig-jury-and-inauguration-concert-13-03/
LOCATION:Mendelssohn-Haus Leipzig / Gartenhaus\, Goldschmidtstraße 12\, Leipzig\, 04103\, Germany
END:VEVENT
BEGIN:VEVENT
DTSTART;TZID=Asia/Jerusalem:20250227T200000
DTEND;TZID=Asia/Jerusalem:20250227T220000
DTSTAMP:20260420T011906
CREATED:20250206T115400Z
LAST-MODIFIED:20250206T115400Z
UID:349-1740686400-1740693600@konstantinlifschitz.com
SUMMARY:Beethoven Klavierkonzert Nr. 4 G-Dur Op. 58
DESCRIPTION:Israel Chamber Orchestra\, cond. Ilan Volkov
URL:https://konstantinlifschitz.com/concert/beethoven-klavierkonzert-nr-4-g-dur-op-58/
LOCATION:Tel-Aviv Museum of Art\, Recanati Auditorium\, 27 Shaul HaMelech Blvd.\, Tel Aviv\, Israel
END:VEVENT
END:VCALENDAR